BEGIN:VCALENDAR
VERSION:2.0
PRODID:-//Segelclub Wendelsee Thun//NONSGML kigkonsult.se iCalcreator 2.16.
 12//
METHOD:PUBLISH
X-MS-OLK-FORCEINSPECTOROPEN:TRUE
BEGIN:VEVENT
UID:20260419T195217CEST-82913cuk2W@Segelclub Wendelsee Thun
DTSTAMP:20260419T175217Z
DESCRIPTION:Fotoyachting auf dem Thunersee.\nThema: Historische Bauten vom 
 See aus.\n\nEs gilt vom Schiff aus 6 vorgegebene hist. Bauten zu fotografi
 eren.\nDie Bilder bitte bis 30. September einsenden.\n\nSiehe Einladung.\n
  
DTSTART:20210904T100000
DTEND:20210930T170000
LOCATION:Thunersee
ORGANIZER:MAILTO:Segelclub Wendelsee Thun <info@scwe.ch>
SUMMARY:Fotoyachting auf dem Thunersee
END:VEVENT
END:VCALENDAR
