BEGIN:VCALENDAR
VERSION:2.0
PRODID:-//Segelclub Wendelsee Thun//NONSGML kigkonsult.se iCalcreator 2.16.
 12//
METHOD:PUBLISH
X-MS-OLK-FORCEINSPECTOROPEN:TRUE
BEGIN:VEVENT
UID:20260419T184922CEST-7935ujvsBG@Segelclub Wendelsee Thun
DTSTAMP:20260419T164922Z
DESCRIPTION:Apéro zwischendurch im Hotel Holiday von 11:00 Uhr - 11:50 Uhr.
 \nOhne Anmeldung\, alle sind herzlich willkommen.
DTSTART:20211119T110000
DTEND:20211119T115000
LOCATION:Hotel Holiday
ORGANIZER:MAILTO:Segelclub Wendelsee Thun <info@scwe.ch>
SUMMARY:Apéro zwischendurch
END:VEVENT
END:VCALENDAR
