BEGIN:VCALENDAR
VERSION:2.0
PRODID:-//Segelclub Wendelsee Thun//NONSGML kigkonsult.se iCalcreator 2.16.
 12//
METHOD:PUBLISH
X-MS-OLK-FORCEINSPECTOROPEN:TRUE
BEGIN:VEVENT
UID:20260419T185056CEST-3954Cuc8IL@Segelclub Wendelsee Thun
DTSTAMP:20260419T165056Z
DESCRIPTION:\nGeselliger Abend im ehemaligen Kloster am Rathausplatz in  Th
 un mit Apéro und Nachtessen.\n\nAm Samstag\, 27. November 2021 ab 18:30 Uh
 r (nicht 18:00 Uhr).\nIm Hotel Restaurant Rathaus in Thun.\nSiehe Einladun
 g.\n\nAnmeldung bis 22.11.2021 an den Kassier.
DTSTART:20211127T183000
DTEND:20211127T223000
LOCATION:Thun\, Restaurant Rathaus
ORGANIZER:MAILTO:Segelclub Wendelsee Thun <info@scwe.ch>
SUMMARY:Seebärenabend 2021
END:VEVENT
END:VCALENDAR
