BEGIN:VCALENDAR
VERSION:2.0
PRODID:-//Segelclub Wendelsee Thun//NONSGML kigkonsult.se iCalcreator 2.16.
 12//
METHOD:PUBLISH
X-MS-OLK-FORCEINSPECTOROPEN:TRUE
BEGIN:VEVENT
UID:20260419T185202CEST-2099MUvgr0@Segelclub Wendelsee Thun
DTSTAMP:20260419T165202Z
DESCRIPTION:Nachtessen für die Helfer 2020 und 2021 bis zum Regattaweekend
DTSTART:20210806T190000
DTEND:20210806T220000
LOCATION:Restaurant Lamm
ORGANIZER:MAILTO:Segelclub Wendelsee Thun <info@scwe.ch>
SUMMARY:Helferabend
END:VEVENT
END:VCALENDAR
