BEGIN:VCALENDAR
VERSION:2.0
PRODID:-//Segelclub Wendelsee Thun//NONSGML kigkonsult.se iCalcreator 2.16.
 12//
METHOD:PUBLISH
X-MS-OLK-FORCEINSPECTOROPEN:TRUE
BEGIN:VEVENT
UID:20260419T185201CEST-9497v0HgH1@Segelclub Wendelsee Thun
DTSTAMP:20260419T165201Z
DESCRIPTION:\n\nSCWe-Absegeln am Sa\, 16. September 2021\n- Beginn ca 13:30
  Uhr auf dem Wasser mit Segeln\n- 15:30 Uhr Apéro im verankerten Bootspäck
 li\n- 18:00 Uhr: Nachtessen im Clubraum\n\nSiehe beiliegende Einladung im 
 Anhang.\n\nBitte für das Nachtessen anmelden.\n\n29.09.2021/ Der Vorstand
DTSTART:20211016T133000
DTEND:20211016T220000
LOCATION:See/ Clubhaus
ORGANIZER:MAILTO:Segelclub Wendelsee Thun <info@scwe.ch>
SUMMARY:Absegeln 2021
END:VEVENT
END:VCALENDAR
