BEGIN:VCALENDAR
VERSION:2.0
PRODID:-//Segelclub Wendelsee Thun//NONSGML kigkonsult.se iCalcreator 2.16.
 12//
METHOD:PUBLISH
X-MS-OLK-FORCEINSPECTOROPEN:TRUE
BEGIN:VEVENT
UID:20260419T185317CEST-3138ImlaXa@Segelclub Wendelsee Thun
DTSTAMP:20260419T165317Z
DESCRIPTION:Apéro zwischendurch im Hotel Holiday\n- Ungezwungen ohne Anmeld
 ung\n- 11:00 Uhr bis ca 11:50 Uhr
DTSTART:20210716T110000
DTEND:20210716T120000
LOCATION:Hotel Holiday
ORGANIZER:MAILTO:Segelclub Wendelsee Thun <info@scwe.ch>
SUMMARY:Apéro zwischendurch
END:VEVENT
END:VCALENDAR
