BEGIN:VCALENDAR
VERSION:2.0
PRODID:-//Segelclub Wendelsee Thun//NONSGML kigkonsult.se iCalcreator 2.16.
 12//
METHOD:PUBLISH
X-MS-OLK-FORCEINSPECTOROPEN:TRUE
BEGIN:VEVENT
UID:20260419T184857CEST-5682RcWdUN@Segelclub Wendelsee Thun
DTSTAMP:20260419T164857Z
DESCRIPTION:Die Einhand-Segelfahrt ist ein Ausflug mit dem Motto Sicherheit
  und Seemannschaft. Es ist also keine Regatta auf Biegen und Brechen.\n\nD
 atum:           Samstag\, 3. Juli 2021\nZeit:                14:00 Uhr -> 
 eher 13:00 Uhr wegen dem Wetter\nTreffpunkt:     Ausserhalb Pfosten Lachen
 kanal\nKurs:                Siehe Beilage (in Bearbeitung)\nNachher:      
    Umtrunk im SCWe-Clubraum\n\nGerne anmelden\, so dass wir nicht vergebli
 ch warten müssen\n
DTSTART:20210703T140000
DTEND:20210703T170000
LOCATION:Unteres Seebecken
ORGANIZER:MAILTO:Segelclub Wendelsee Thun <info@scwe.ch>
SUMMARY:Einhand-Segelfahrt
END:VEVENT
END:VCALENDAR
