BEGIN:VCALENDAR
VERSION:2.0
PRODID:-//Segelclub Wendelsee Thun//NONSGML kigkonsult.se iCalcreator 2.16.
 12//
METHOD:PUBLISH
X-MS-OLK-FORCEINSPECTOROPEN:TRUE
BEGIN:VEVENT
UID:20260419T172643CEST-8725LIjvui@Segelclub Wendelsee Thun
DTSTAMP:20260419T152643Z
DESCRIPTION:Der Segelclub Wendelsee lädt ein zu\nPouletcurry indische Art\n
 \nDatum: 1. April 2016 - kein Scherz :-)\nEssen inkl. Begrüssungs-Cüpli 'L
 itchi“ und Dessert pro Person: 20.- (ohne Getränke)\n\nAnmeldungen bis Mit
 twoch\, 30.3.2016 via:\n\n\n	- Website\n	- info@scwe.ch\n	- per Telefon unter
  076 584 14 35\n\n\nDie Anmeldung ist obligatorisch und die Personenzahl a
 uf 30 beschränkt. Darum bitte nicht weitersagen\, sonst kommt ganz Indien.
 ...\n
DTSTART:20160401T190000
DTEND:20160401T235900
LOCATION:Clublokal
ORGANIZER:MAILTO:Segelclub Wendelsee Thun <info@scwe.ch>
SUMMARY:April Höck
END:VEVENT
END:VCALENDAR
