BEGIN:VCALENDAR
VERSION:2.0
PRODID:-//Segelclub Wendelsee Thun//NONSGML kigkonsult.se iCalcreator 2.16.
 12//
METHOD:PUBLISH
X-MS-OLK-FORCEINSPECTOROPEN:TRUE
BEGIN:VEVENT
UID:20260419T155114CEST-0533N7Pc3n@Segelclub Wendelsee Thun
DTSTAMP:20260419T135114Z
DESCRIPTION:
DTSTART:20150327T120000
DTEND:20150327T133000
LOCATION:Seepark Thun
ORGANIZER:MAILTO:Segelclub Wendelsee Thun <info@scwe.ch>
SUMMARY:Generalversammlung
END:VEVENT
END:VCALENDAR
