BEGIN:VCALENDAR
VERSION:2.0
PRODID:-//Segelclub Wendelsee Thun//NONSGML kigkonsult.se iCalcreator 2.16.
 12//
METHOD:PUBLISH
X-MS-OLK-FORCEINSPECTOROPEN:TRUE
BEGIN:VEVENT
UID:20260419T185055CEST-4313HfLXrD@Segelclub Wendelsee Thun
DTSTAMP:20260419T165055Z
DESCRIPTION:Das RUGRISE wurde vom Ruderclub verschoben auf den 25.09.2021.
 \nGrund: Der IRONMAN\, der alles verdrängt.\n-----------------------------
 --------------------------------------\n\nDas RUGRISE bedeutet Rudern-Gril
 lieren-Segeln. Wir führen diesen Anlass am Wochenende vom 4. und 5. Septem
 ber durch.\n
DTSTART:20210904T090000
DTEND:20210905T170000
LOCATION:Clubhaus/ See
ORGANIZER:MAILTO:Segelclub Wendelsee Thun <info@scwe.ch>
SUMMARY:RUGRISE\, RCT und SCWe verschoben
END:VEVENT
END:VCALENDAR
