BEGIN:VCALENDAR
VERSION:2.0
PRODID:-//Segelclub Wendelsee Thun//NONSGML kigkonsult.se iCalcreator 2.16.
 12//
METHOD:PUBLISH
X-MS-OLK-FORCEINSPECTOROPEN:TRUE
BEGIN:VEVENT
UID:20260419T195336CEST-6734AXJvuS@Segelclub Wendelsee Thun
DTSTAMP:20260419T175336Z
DESCRIPTION:
DTSTART:20210612T133000
DTEND:20210612T160000
LOCATION:Nähe Bellevuefloss
ORGANIZER:MAILTO:Segelclub Wendelsee Thun <info@scwe.ch>
SUMMARY:Rettungsdemo Spankerflotte
END:VEVENT
END:VCALENDAR
