BEGIN:VCALENDAR
VERSION:2.0
PRODID:-//Segelclub Wendelsee Thun//NONSGML kigkonsult.se iCalcreator 2.16.
 12//
METHOD:PUBLISH
X-MS-OLK-FORCEINSPECTOROPEN:TRUE
BEGIN:VEVENT
UID:20260419T195336CEST-2033X2V82K@Segelclub Wendelsee Thun
DTSTAMP:20260419T175336Z
DESCRIPTION:Wenn es das Wetter erlaubt auf der Terasse oder im Garten des H
 otels Holiday.\nVon 11:00 bis 12:00 Uhr.\n\nWenn es keinen Platz hätte\, d
 ann vor dem Clubhaus.\n\n30.04.2021/ Präs
DTSTART:20210521T110000
DTEND:20210521T120000
LOCATION:Holiday Thun
ORGANIZER:MAILTO:Segelclub Wendelsee Thun <info@scwe.ch>
SUMMARY:Apéro zwischendurch
END:VEVENT
END:VCALENDAR
