BEGIN:VCALENDAR
VERSION:2.0
PRODID:-//Segelclub Wendelsee Thun//NONSGML kigkonsult.se iCalcreator 2.16.
 12//
METHOD:PUBLISH
X-MS-OLK-FORCEINSPECTOROPEN:TRUE
BEGIN:VEVENT
UID:20260419T184921CEST-3369bwCbCu@Segelclub Wendelsee Thun
DTSTAMP:20260419T164921Z
DESCRIPTION:\nClubregatta  am Sonntag kann durchgeführt werden\n\n- Start u
 m 14:00 Uhr\n- Anmeldung gerne mit manage2sail\n- wird nach Yardstick gese
 gelt\n
DTSTART:20210725T140000
DTEND:20210725T180000
LOCATION:Unteres Seebecken
ORGANIZER:MAILTO:Segelclub Wendelsee Thun <info@scwe.ch>
SUMMARY:SCWe-Classic
END:VEVENT
END:VCALENDAR
