BEGIN:VCALENDAR
VERSION:2.0
PRODID:-//Segelclub Wendelsee Thun//NONSGML kigkonsult.se iCalcreator 2.16.
 12//
METHOD:PUBLISH
X-MS-OLK-FORCEINSPECTOROPEN:TRUE
BEGIN:VEVENT
UID:20260419T185045CEST-9780U2jsOk@Segelclub Wendelsee Thun
DTSTAMP:20260419T165045Z
DESCRIPTION:Die Regatta kann durchgeführt werden:\n\n- Start um 13:30 Uhr\n
 - Meldung gerne an manage2sail\n- nach der Regatta geselliger Teil\n  mit 
 Einlaufbier und Grillbratwurst\n\nVor der Rangverkündigung des SCWe holen 
 wir noch die Rangverkündigung des TBSV-Cups 2020 in Kurzform nach.\n
DTSTART:20210724T133000
DTEND:20210724T200000
LOCATION:Unteres Seebecken
ORGANIZER:MAILTO:Segelclub Wendelsee Thun <info@scwe.ch>
SUMMARY:Wendelseecup\, TBSV-Regatta
END:VEVENT
END:VCALENDAR
