BEGIN:VCALENDAR
VERSION:2.0
PRODID:-//Segelclub Wendelsee Thun//NONSGML kigkonsult.se iCalcreator 2.16.
 12//
METHOD:PUBLISH
X-MS-OLK-FORCEINSPECTOROPEN:TRUE
BEGIN:VEVENT
UID:20260419T194846CEST-3144O8Kv9C@Segelclub Wendelsee Thun
DTSTAMP:20260419T174846Z
DESCRIPTION:Der Julihöck ist traditionell ein Grillanlass im Freien auf dem
  Räseli.\n\nDatum\, Zeit:       Freitag\, 2. Juli 2021\, ab 19:00 Uhr\nEss
 en:                 Grillgut und Beilagen bitte selber mitbringen\nGetränk
 e:           Aus dem SCWe-Keller\nAnmeldung:       Ja gerne für die Vorber
 eitung \n\nDer Vorstand
DTSTART:20210702T190000
DTEND:20210702T220000
LOCATION:Im Freien/ Clublokal
ORGANIZER:MAILTO:Segelclub Wendelsee Thun <info@scwe.ch>
SUMMARY:Julihöck\, Grill
END:VEVENT
END:VCALENDAR
