BEGIN:VCALENDAR
VERSION:2.0
PRODID:-//Segelclub Wendelsee Thun//NONSGML kigkonsult.se iCalcreator 2.16.
 12//
METHOD:PUBLISH
X-MS-OLK-FORCEINSPECTOROPEN:TRUE
BEGIN:VEVENT
UID:20260419T200321CEST-8269mi4wzm@Segelclub Wendelsee Thun
DTSTAMP:20260419T180321Z
DESCRIPTION:Für den Samschtigsplausch haben sich nur zwei Boote angemeldet.
  Deshalb wird der Anlass abgesagt.\n\n- Samstag\, 19. Juni 2021\n- Ab 15:0
 0 Uhr\n- Mole Hafen Güetital\n- Bei einigermassen schönem Wetter\n- Detail
 s siehe in der Beilage\n\n17.06.2021/ Vorstand
DTSTART:20210619T150000
DTEND:20210620T000000
LOCATION:Güetital Hafenmole
ORGANIZER:MAILTO:Segelclub Wendelsee Thun <info@scwe.ch>
SUMMARY:Samschtigsplousch mangels Beteiligung abgesagt.
END:VEVENT
END:VCALENDAR
