BEGIN:VCALENDAR
VERSION:2.0
PRODID:-//Segelclub Wendelsee Thun//NONSGML kigkonsult.se iCalcreator 2.16.
 12//
METHOD:PUBLISH
X-MS-OLK-FORCEINSPECTOROPEN:TRUE
BEGIN:VEVENT
UID:20260419T174303CEST-7157ktb8Wi@Segelclub Wendelsee Thun
DTSTAMP:20260419T154303Z
DESCRIPTION:
DTSTART:20151121T183000
DTEND:20151121T235900
LOCATION:Clublokal
ORGANIZER:MAILTO:Segelclub Wendelsee Thun <info@scwe.ch>
SUMMARY:Seebärenabend - The 70's
END:VEVENT
END:VCALENDAR
