BEGIN:VCALENDAR
VERSION:2.0
PRODID:-//Segelclub Wendelsee Thun//NONSGML kigkonsult.se iCalcreator 2.16.
 12//
METHOD:PUBLISH
X-MS-OLK-FORCEINSPECTOROPEN:TRUE
BEGIN:VEVENT
UID:20260419T194926CEST-9600HhVOPG@Segelclub Wendelsee Thun
DTSTAMP:20260419T174926Z
DESCRIPTION:
DTSTART:20210604T190000
DTEND:20210604T230000
LOCATION:Clubhaus
ORGANIZER:MAILTO:Segelclub Wendelsee Thun <info@scwe.ch>
SUMMARY:Junihöck wird nicht durchgeführt
END:VEVENT
END:VCALENDAR
