BEGIN:VCALENDAR
VERSION:2.0
PRODID:-//Segelclub Wendelsee Thun//NONSGML kigkonsult.se iCalcreator 2.16.
 12//
METHOD:PUBLISH
X-MS-OLK-FORCEINSPECTOROPEN:TRUE
BEGIN:VEVENT
UID:20260419T195303CEST-8255Ju9VfU@Segelclub Wendelsee Thun
DTSTAMP:20260419T175303Z
DESCRIPTION:Wir werden den Maihöck in einfacher Form durchführen:\n- im Fre
 ien\, wenn es nicht gerade in Strömen . . . \n- in aufgelockert Form (Abst
 ände)\n- mit einem Apéro\, einem Hafenrundgang und einem Snack\n\nSiehe Ei
 nladung\n\nWir bitten um eine Anmeldung bis Do\, 6. Mai 2021
DTSTART:20210507T183000
DTEND:20210507T220000
LOCATION:Thun\, Clubhaus und Hafen
ORGANIZER:MAILTO:Segelclub Wendelsee Thun <info@scwe.ch>
SUMMARY:Maihöck
END:VEVENT
END:VCALENDAR
