BEGIN:VCALENDAR
VERSION:2.0
PRODID:-//Segelclub Wendelsee Thun//NONSGML kigkonsult.se iCalcreator 2.16.
 12//
METHOD:PUBLISH
X-MS-OLK-FORCEINSPECTOROPEN:TRUE
BEGIN:VEVENT
UID:20260419T195309CEST-5966Za2z7L@Segelclub Wendelsee Thun
DTSTAMP:20260419T175309Z
DESCRIPTION:Wegen Lumpenwetters um eine Woche auf den 22. Mai verschoben.\n
 \nAnsegeln auf dem Wasser bei vernünftigem Wetter.\nFürabebier nachher im 
 Freien im Lachenhafen.\n\nIdee\nWir führen eine gemeinsame Ausfahrt durch.
 \nBeginn 13:30 Uhr im unteren Seebecken.\nStrecke: Höhe Segelschule - Gunt
 en - Spiez - zurück.\n\nSiehe Einladung mit Plan.\n\nLangsamere Boote sege
 ln schön exakt und schnellere Boote machen ein paar kleine Zusatzschlaufen
 .\n
DTSTART:20210522T133000
DTEND:20210522T180000
LOCATION:Unteres Seebecken
ORGANIZER:MAILTO:Segelclub Wendelsee Thun <info@scwe.ch>
SUMMARY:Ansegeln auf dem Wasser
END:VEVENT
END:VCALENDAR
