BEGIN:VCALENDAR
VERSION:2.0
PRODID:-//Segelclub Wendelsee Thun//NONSGML kigkonsult.se iCalcreator 2.16.
 12//
METHOD:PUBLISH
X-MS-OLK-FORCEINSPECTOROPEN:TRUE
BEGIN:VEVENT
UID:20260419T195146CEST-1631oVPd1e@Segelclub Wendelsee Thun
DTSTAMP:20260419T175146Z
DESCRIPTION:Wir führen die GV per Mail durch.\nWir werden euch deshalb Mitt
 e Februar über das Vorgehen informieren und Ende Februar die GV-Unterlagen
  zustellen.\nWir bitten um Rücksendung des Frageblattes bis 19.03.2021.\n
 \n27.01.2021/ Der Vorstand
DTSTART:20210319T000000
DTEND:20210319T000000
LOCATION:Thun
ORGANIZER:MAILTO:Segelclub Wendelsee Thun <info@scwe.ch>
SUMMARY:GV 2021 -> per Mail
END:VEVENT
END:VCALENDAR
