BEGIN:VCALENDAR
VERSION:2.0
PRODID:-//Segelclub Wendelsee Thun//NONSGML kigkonsult.se iCalcreator 2.16.
 12//
METHOD:PUBLISH
X-MS-OLK-FORCEINSPECTOROPEN:TRUE
BEGIN:VEVENT
UID:20260419T194845CEST-9828Co0fSu@Segelclub Wendelsee Thun
DTSTAMP:20260419T174845Z
DESCRIPTION:Datum:   Verschoben vorausichtlich auf August/ September\nOrt: 
         In Thun\n\n 
DTSTART:20210611T190000
DTEND:20210611T220000
LOCATION:Thun
ORGANIZER:MAILTO:Segelclub Wendelsee Thun <info@scwe.ch>
SUMMARY:Helferabend 2021 wird verschoben
END:VEVENT
END:VCALENDAR
