BEGIN:VCALENDAR
VERSION:2.0
PRODID:-//Segelclub Wendelsee Thun//NONSGML kigkonsult.se iCalcreator 2.16.
 12//
METHOD:PUBLISH
X-MS-OLK-FORCEINSPECTOROPEN:TRUE
BEGIN:VEVENT
UID:20260419T194951CEST-2957nuTN5R@Segelclub Wendelsee Thun
DTSTAMP:20260419T174951Z
DESCRIPTION:
DTSTART:20201229T190000
DTEND:20201229T233000
LOCATION:SCWe Clubhaus
ORGANIZER:MAILTO:Segelclub Wendelsee Thun <info@scwe.ch>
SUMMARY:Altjahrshöck abgesagt
END:VEVENT
END:VCALENDAR
