BEGIN:VCALENDAR
VERSION:2.0
PRODID:-//Segelclub Wendelsee Thun//NONSGML kigkonsult.se iCalcreator 2.16.
 12//
METHOD:PUBLISH
X-MS-OLK-FORCEINSPECTOROPEN:TRUE
BEGIN:VEVENT
UID:20260419T194926CEST-5206WmvnIT@Segelclub Wendelsee Thun
DTSTAMP:20260419T174926Z
DESCRIPTION:Wegen der Coronasituation und den Massnahmen abgesagt.\n\nDer V
 orstand
DTSTART:20201204T190000
DTEND:20201204T233000
LOCATION:SCWe-Clubhaus
ORGANIZER:MAILTO:Segelclub Wendelsee Thun <info@scwe.ch>
SUMMARY:Chlousehöck abgesagt
END:VEVENT
END:VCALENDAR
