BEGIN:VCALENDAR
VERSION:2.0
PRODID:-//Segelclub Wendelsee Thun//NONSGML kigkonsult.se iCalcreator 2.16.
 12//
METHOD:PUBLISH
X-MS-OLK-FORCEINSPECTOROPEN:TRUE
BEGIN:VEVENT
UID:20260419T195310CEST-2062JvuB0v@Segelclub Wendelsee Thun
DTSTAMP:20260419T175310Z
DESCRIPTION:Damit der SCWe-Vorstand auch weiterhin handlungsfähig bleibt\, 
 haben wir beschlossen die GV 2020 virtuell durchzuführen. \n\nDazu senden 
 wir euch eine Traktandenliste mit den notwendigen Beilagen zum zweiten Mal
 . Mit dem gleicher Mail erhaltet ihr das dazugehörige Abstimmungsblatt als
  Word- und pdf-Dokument.\nWir bitten euch dieses auszufüllen und bis 30. J
 uni 2020 zurückzusenden.\nBesten Dank\n\n08.06.2020 der Vorstand\n
DTSTART:20200630T220000
DTEND:20200630T223000
ORGANIZER:MAILTO:Segelclub Wendelsee Thun <info@scwe.ch>
SUMMARY:GV 2020 virtuell
END:VEVENT
END:VCALENDAR
