BEGIN:VCALENDAR
VERSION:2.0
PRODID:-//Segelclub Wendelsee Thun//NONSGML kigkonsult.se iCalcreator 2.16.
 12//
METHOD:PUBLISH
X-MS-OLK-FORCEINSPECTOROPEN:TRUE
BEGIN:VEVENT
UID:20260419T155300CEST-0156clL6Ax@Segelclub Wendelsee Thun
DTSTAMP:20260419T135300Z
DESCRIPTION:
DTSTART:20151010T160000
DTEND:20151010T235900
LOCATION:See / Clublokal
ORGANIZER:MAILTO:Segelclub Wendelsee Thun <info@scwe.ch>
SUMMARY:Absegeln
END:VEVENT
END:VCALENDAR
