BEGIN:VCALENDAR
VERSION:2.0
PRODID:-//Segelclub Wendelsee Thun//NONSGML kigkonsult.se iCalcreator 2.16.
 12//
METHOD:PUBLISH
X-MS-OLK-FORCEINSPECTOROPEN:TRUE
BEGIN:VEVENT
UID:20260419T195342CEST-4155SCnf5u@Segelclub Wendelsee Thun
DTSTAMP:20260419T175342Z
DESCRIPTION:
DTSTART:20201121T190000
DTEND:20201121T230000
LOCATION:Thun
ORGANIZER:MAILTO:Segelclub Wendelsee Thun <info@scwe.ch>
SUMMARY:Seebärenabend abgesagt
END:VEVENT
END:VCALENDAR
