BEGIN:VCALENDAR
VERSION:2.0
PRODID:-//Segelclub Wendelsee Thun//NONSGML kigkonsult.se iCalcreator 2.16.
 12//
METHOD:PUBLISH
X-MS-OLK-FORCEINSPECTOROPEN:TRUE
BEGIN:VEVENT
UID:20260419T194951CEST-5562NpavuX@Segelclub Wendelsee Thun
DTSTAMP:20260419T174951Z
DESCRIPTION:Die Segelsaison geht langsam zu Ende  - Zeit vor dem Einwintern
  nochmals eine letzte offizielle Ausfahrt zu machen.\n\nProgramm\nab 15:30
  Apéro auf dem Wasser vor dem Bonstetteninseli\n \n\nBei schlechtem Wetter
  findet der Apéro nicht statt\n\nDetails siehe in der Einladung. \n
DTSTART:20201017T150000
DTEND:20201017T180000
LOCATION:auf dem See
ORGANIZER:MAILTO:Segelclub Wendelsee Thun <info@scwe.ch>
SUMMARY:Absegeln nur auf dem Wasser
END:VEVENT
END:VCALENDAR
