BEGIN:VCALENDAR
VERSION:2.0
PRODID:-//Segelclub Wendelsee Thun//NONSGML kigkonsult.se iCalcreator 2.16.
 12//
METHOD:PUBLISH
X-MS-OLK-FORCEINSPECTOROPEN:TRUE
BEGIN:VEVENT
UID:20260419T195303CEST-5036h2RVFk@Segelclub Wendelsee Thun
DTSTAMP:20260419T175303Z
DESCRIPTION:Wir führen einen speziellen Anlass durch. Dies gemäss der Umfra
 ge 2019.
DTSTART:20200918T110000
DTEND:20200918T120000
LOCATION:Hotel Holiday
ORGANIZER:MAILTO:Segelclub Wendelsee Thun <info@scwe.ch>
SUMMARY:Apéro zwischendurch
END:VEVENT
END:VCALENDAR
