BEGIN:VCALENDAR
VERSION:2.0
PRODID:-//Segelclub Wendelsee Thun//NONSGML kigkonsult.se iCalcreator 2.16.
 12//
METHOD:PUBLISH
X-MS-OLK-FORCEINSPECTOROPEN:TRUE
BEGIN:VEVENT
UID:20260419T195012CEST-0059cr94dV@Segelclub Wendelsee Thun
DTSTAMP:20260419T175012Z
DESCRIPTION:Der Apéro zwischendurch findet jeweils an einem Freitag etwa in
  der Monatsmitte statt.\nEs braucht keine Anmeldung - einfach nur kommen.
 \nEin Tisch für ca 12 Personen ist reserviert.
DTSTART:20200814T110000
DTEND:20200814T125300
LOCATION:Hotel Holiday
ORGANIZER:MAILTO:Segelclub Wendelsee Thun <info@scwe.ch>
SUMMARY:Apéro zwischendurch
END:VEVENT
END:VCALENDAR
