BEGIN:VCALENDAR
VERSION:2.0
PRODID:-//Segelclub Wendelsee Thun//NONSGML kigkonsult.se iCalcreator 2.16.
 12//
METHOD:PUBLISH
X-MS-OLK-FORCEINSPECTOROPEN:TRUE
BEGIN:VEVENT
UID:20260419T195012CEST-26874f4s0S@Segelclub Wendelsee Thun
DTSTAMP:20260419T175012Z
DESCRIPTION:Erster kleiner Anlass nach der langen Pause im SCWe.\nWir treff
 en uns im Holiday\, wenn möglich draussen und respektieren die Massnahmen 
 des Hotels.
DTSTART:20200605T110000
DTEND:20200605T120000
LOCATION:Hotel
ORGANIZER:MAILTO:Segelclub Wendelsee Thun <info@scwe.ch>
SUMMARY:Apéro zwischendurch
END:VEVENT
END:VCALENDAR
