BEGIN:VCALENDAR
VERSION:2.0
PRODID:-//Segelclub Wendelsee Thun//NONSGML kigkonsult.se iCalcreator 2.16.
 12//
METHOD:PUBLISH
X-MS-OLK-FORCEINSPECTOROPEN:TRUE
BEGIN:VEVENT
UID:20260419T195341CEST-9180vVmuxb@Segelclub Wendelsee Thun
DTSTAMP:20260419T175341Z
DESCRIPTION:
DTSTART:20200509T000000
DTEND:20200509T000000
LOCATION:Lachenhafen
ORGANIZER:MAILTO:Segelclub Wendelsee Thun <info@scwe.ch>
SUMMARY:Einwassern im Lachen
END:VEVENT
END:VCALENDAR
