BEGIN:VCALENDAR
VERSION:2.0
PRODID:-//Segelclub Wendelsee Thun//NONSGML kigkonsult.se iCalcreator 2.16.
 12//
METHOD:PUBLISH
X-MS-OLK-FORCEINSPECTOROPEN:TRUE
BEGIN:VEVENT
UID:20260419T195146CEST-4246r3jAkj@Segelclub Wendelsee Thun
DTSTAMP:20260419T175146Z
DESCRIPTION:Der Höck ist mangels Anmeldungen abgesagt.\n\nEinladung zum Okt
 oberfest mit warmem Fleischkäse\, Brezen\, Käsebrezen und Bier vom Fass. 
 \nNatürlich stehen auch die anderen Getränke zur Verfügung.\n\nDetails sie
 he Einladung.\n\nUm eure Anmeldung bis Di\, 30. September 2020 wird gebete
 n.\n\nDer Vorstand
DTSTART:20201002T190000
DTEND:20201002T230000
LOCATION:Thun
ORGANIZER:MAILTO:Segelclub Wendelsee Thun <info@scwe.ch>
SUMMARY:Oktober-Höck
END:VEVENT
END:VCALENDAR
