BEGIN:VCALENDAR
VERSION:2.0
PRODID:-//Segelclub Wendelsee Thun//NONSGML kigkonsult.se iCalcreator 2.16.
 12//
METHOD:PUBLISH
X-MS-OLK-FORCEINSPECTOROPEN:TRUE
BEGIN:VEVENT
UID:20260419T195139CEST-2605fvk06l@Segelclub Wendelsee Thun
DTSTAMP:20260419T175139Z
DESCRIPTION:\nSchnupperrudern für uns Segler und Schnuppersegeln für die Ru
 derer.\n- Am Morgen wird gerudert\, am Mittag grilliert und am Nachmittag 
 gesegelt.\n\nBei vernünftigem Wetter am Samstag\, 5. September 2020 und we
 nn es ganz schlecht wäre\, dann eine Woche später.\nSiehe Beilage 'Einladu
 ng RUGRISE'\n\nMan muss sich für die Vorbereitung der Boote mit einem Dood
 le bis am Mi\, 2. September anmelden. Der Link ist im Mail vom 16.08.2020
 \n\nDer Vorstand SCWe und RCT\n \n
DTSTART:20200905T090000
DTEND:20200905T170000
LOCATION:Clubhaus / See
ORGANIZER:MAILTO:Segelclub Wendelsee Thun <info@scwe.ch>
SUMMARY:RUGRISE\, RCT und SCWe
END:VEVENT
END:VCALENDAR
