BEGIN:VCALENDAR
VERSION:2.0
PRODID:-//Segelclub Wendelsee Thun//NONSGML kigkonsult.se iCalcreator 2.16.
 12//
METHOD:PUBLISH
X-MS-OLK-FORCEINSPECTOROPEN:TRUE
BEGIN:VEVENT
UID:20260419T195146CEST-7185HnfpSp@Segelclub Wendelsee Thun
DTSTAMP:20260419T175146Z
DESCRIPTION:\nDie Bäri-Crew freut sich\, uns am September-Höck 2020 bekoche
 n zu dürfen.\n\nDatum:  Freitag\, 4. September 2020\nZeit:      19:00 Uhr
 \n\nMenü\nSalat\, Steinpilzrisotto mit Wurst sowie ein Dessert.\nDazu ein 
 gutes Glas Rotwein oder Rosé\n\nAnmeldung: Bitte mit der SCWe-Seite oder m
 it einer Mail an  info@scwe.ch\n\nBereits jetzt herzlichen Dank\, der Vors
 tand\n \n
DTSTART:20200904T190000
DTEND:20200904T230000
LOCATION:Thun
ORGANIZER:MAILTO:Segelclub Wendelsee Thun <info@scwe.ch>
SUMMARY:September-Höck
END:VEVENT
END:VCALENDAR
