BEGIN:VCALENDAR
VERSION:2.0
PRODID:-//Segelclub Wendelsee Thun//NONSGML kigkonsult.se iCalcreator 2.16.
 12//
METHOD:PUBLISH
X-MS-OLK-FORCEINSPECTOROPEN:TRUE
BEGIN:VEVENT
UID:20260419T174139CEST-3458G5S7ZC@Segelclub Wendelsee Thun
DTSTAMP:20260419T154139Z
DESCRIPTION:
DTSTART:20160304T190000
DTEND:20160304T235900
ORGANIZER:MAILTO:Segelclub Wendelsee Thun <info@scwe.ch>
SUMMARY:Helferabend
END:VEVENT
END:VCALENDAR
