BEGIN:VCALENDAR
VERSION:2.0
PRODID:-//Segelclub Wendelsee Thun//NONSGML kigkonsult.se iCalcreator 2.16.
 12//
METHOD:PUBLISH
X-MS-OLK-FORCEINSPECTOROPEN:TRUE
BEGIN:VEVENT
UID:20260419T195118CEST-7960Uflkal@Segelclub Wendelsee Thun
DTSTAMP:20260419T175118Z
DESCRIPTION:\nDie SCWe-Classic \nstartet am Sonntag\, 16. August um 14:00 U
 hr im unteren Seebecken.\n\nGesegelt wird ein Lauf in einer Gruppe. Die Au
 swertung erfolgt nach Yardstick.\nDetails siehe unter manage2sail oder im 
 Anhang.\n\nSicherheit: Siehe Dispositiv SCWe\n\n\nStefan Wyler\, Regattapr
 äsident
DTSTART:20200816T140000
DTEND:20200816T180000
LOCATION:Clubhaus/ See
ORGANIZER:MAILTO:Segelclub Wendelsee Thun <info@scwe.ch>
SUMMARY:SCWe-Classic
END:VEVENT
END:VCALENDAR
