BEGIN:VCALENDAR
VERSION:2.0
PRODID:-//Segelclub Wendelsee Thun//NONSGML kigkonsult.se iCalcreator 2.16.
 12//
METHOD:PUBLISH
X-MS-OLK-FORCEINSPECTOROPEN:TRUE
BEGIN:VEVENT
UID:20260419T195335CEST-9328ldxLPe@Segelclub Wendelsee Thun
DTSTAMP:20260419T175335Z
DESCRIPTION:\nDer Wendelseecup startet am Samstag\,\n15. August 2020 im unt
 eren Seebecken.\n\n- Details siehe in der Ausschreibung\n   Wendelseecup\n
 - Anmeldung gerne direkt mit dem manage2sail\n- Bezahlen im Clublokal oder
  auf dem Wasser\n- Geselliger Teil anlässlich der Rangverkündigung\n   mit
  Einlaufbier und etwas gegen den Hunger\n\n- Sicherheit: Siehe SCWe-Dispos
 itiv\n \n\nDer Sportchef Stafan Wyler\n
DTSTART:20200815T133000
DTEND:20200815T200000
LOCATION:Clubhaus/ See
ORGANIZER:MAILTO:Segelclub Wendelsee Thun <info@scwe.ch>
SUMMARY:Wendelseecup
END:VEVENT
END:VCALENDAR
