BEGIN:VCALENDAR
VERSION:2.0
PRODID:-//Segelclub Wendelsee Thun//NONSGML kigkonsult.se iCalcreator 2.16.
 12//
METHOD:PUBLISH
X-MS-OLK-FORCEINSPECTOROPEN:TRUE
BEGIN:VEVENT
UID:20260419T195012CEST-5971jJFgau@Segelclub Wendelsee Thun
DTSTAMP:20260419T175012Z
DESCRIPTION:Grillhöck\nAm Fr\, 3. Juli 2020 ab 19:00 Uhr\nDurchführung Bäri
 -Crew\, DOLPHIN SUI 71\n\nBei schönem Wetter im Freien und wenn zu kalt od
 er bei Regen im Clublokal.\n\nWegen der Coronamassnahmen wird um eine Anme
 ldung bis 2. Juli gebeten.\nAn info@scwe.ch \n\nDer Vorstand
DTSTART:20200703T190000
DTEND:20200703T230000
LOCATION:Clubhaus
ORGANIZER:MAILTO:Segelclub Wendelsee Thun <info@scwe.ch>
SUMMARY:Julihöck
END:VEVENT
END:VCALENDAR
