BEGIN:VCALENDAR
VERSION:2.0
PRODID:-//Segelclub Wendelsee Thun//NONSGML kigkonsult.se iCalcreator 2.16.
 12//
METHOD:PUBLISH
X-MS-OLK-FORCEINSPECTOROPEN:TRUE
BEGIN:VEVENT
UID:20260419T195119CEST-1995A4E6OU@Segelclub Wendelsee Thun
DTSTAMP:20260419T175119Z
DESCRIPTION:Wir haben deshalb abgesagt:\n\n\n\n20.06.2020/ Der Vorstand\n
DTSTART:20200620T150000
DTEND:20200621T100000
LOCATION:Hafen Güetital
ORGANIZER:MAILTO:Segelclub Wendelsee Thun <info@scwe.ch>
SUMMARY:Samschtigsplousch
END:VEVENT
END:VCALENDAR
