BEGIN:VCALENDAR
VERSION:2.0
PRODID:-//Segelclub Wendelsee Thun//NONSGML kigkonsult.se iCalcreator 2.16.
 12//
METHOD:PUBLISH
X-MS-OLK-FORCEINSPECTOROPEN:TRUE
BEGIN:VEVENT
UID:20260419T195309CEST-9157X1vJaN@Segelclub Wendelsee Thun
DTSTAMP:20260419T175309Z
DESCRIPTION:Der SCWe-Junihöck liegt noch vor dem 6. Juni\, an dem weitere O
 effnungen möglich sein werden.\nDeshalb muss er noch gestrichen werden.\n
 \n30.05.2020\, Präsident\n
DTSTART:20200605T190000
DTEND:20200605T230000
LOCATION:SCWe-Clubraum
ORGANIZER:MAILTO:Segelclub Wendelsee Thun <info@scwe.ch>
SUMMARY:Junihöck abgesagt
END:VEVENT
END:VCALENDAR
