BEGIN:VCALENDAR
VERSION:2.0
PRODID:-//Segelclub Wendelsee Thun//NONSGML kigkonsult.se iCalcreator 2.16.
 12//
METHOD:PUBLISH
X-MS-OLK-FORCEINSPECTOROPEN:TRUE
BEGIN:VEVENT
UID:20260419T195139CEST-9690kdXUT6@Segelclub Wendelsee Thun
DTSTAMP:20260419T175139Z
DESCRIPTION:
DTSTART:20200515T110000
DTEND:20200515T120000
LOCATION:Hotel Holiday
ORGANIZER:MAILTO:Segelclub Wendelsee Thun <info@scwe.ch>
SUMMARY:Apéro zwischendurch ist abgesagt
END:VEVENT
END:VCALENDAR
