BEGIN:VCALENDAR
VERSION:2.0
PRODID:-//Segelclub Wendelsee Thun//NONSGML kigkonsult.se iCalcreator 2.16.
 12//
METHOD:PUBLISH
X-MS-OLK-FORCEINSPECTOROPEN:TRUE
BEGIN:VEVENT
UID:20260419T201448CEST-23367kkmC6@Segelclub Wendelsee Thun
DTSTAMP:20260419T181448Z
DESCRIPTION:Die Durchführung des Maihöcks ist wegen der Coronabedrohung und
  den Massnahmen des BR abgesagt.
DTSTART:20200501T190000
DTEND:20200501T230000
LOCATION:SCWe-Clubraum
ORGANIZER:MAILTO:Segelclub Wendelsee Thun <info@scwe.ch>
SUMMARY:Maihöck ist abgesagt
END:VEVENT
END:VCALENDAR
