BEGIN:VCALENDAR
VERSION:2.0
PRODID:-//Segelclub Wendelsee Thun//NONSGML kigkonsult.se iCalcreator 2.16.
 12//
METHOD:PUBLISH
X-MS-OLK-FORCEINSPECTOROPEN:TRUE
BEGIN:VEVENT
UID:20260419T201556CEST-4456gbVWKa@Segelclub Wendelsee Thun
DTSTAMP:20260419T181556Z
DESCRIPTION:Wer Lust und Zeit hat soll doch kommen. \nEs braucht keine Anme
 ldung.\nEs wird jeweils ein Tisch reserviert.
DTSTART:20200417T110000
DTEND:20200417T120000
LOCATION:Hotel Holiday
ORGANIZER:MAILTO:Segelclub Wendelsee Thun <info@scwe.ch>
SUMMARY:Apéro zwischendurch abgesagt
END:VEVENT
END:VCALENDAR
