BEGIN:VCALENDAR
VERSION:2.0
PRODID:-//Segelclub Wendelsee Thun//NONSGML kigkonsult.se iCalcreator 2.16.
 12//
METHOD:PUBLISH
X-MS-OLK-FORCEINSPECTOROPEN:TRUE
BEGIN:VEVENT
UID:20260419T173605CEST-3804JhINON@Segelclub Wendelsee Thun
DTSTAMP:20260419T153605Z
DESCRIPTION:
DTSTART:20160205T190000
DTEND:20160205T235900
LOCATION:Clublokal
ORGANIZER:MAILTO:Segelclub Wendelsee Thun <info@scwe.ch>
SUMMARY:Fondue Abend
END:VEVENT
END:VCALENDAR
