BEGIN:VCALENDAR
VERSION:2.0
PRODID:-//Segelclub Wendelsee Thun//NONSGML kigkonsult.se iCalcreator 2.16.
 12//
METHOD:PUBLISH
X-MS-OLK-FORCEINSPECTOROPEN:TRUE
BEGIN:VEVENT
UID:20260419T201729CEST-4422Wx99ZI@Segelclub Wendelsee Thun
DTSTAMP:20260419T181729Z
DESCRIPTION:
DTSTART:20200403T190000
DTEND:20200403T230000
LOCATION:SCW-Clubraum
ORGANIZER:MAILTO:Segelclub Wendelsee Thun <info@scwe.ch>
SUMMARY:Aprilhöck ist abgesagt
END:VEVENT
END:VCALENDAR
