BEGIN:VCALENDAR
VERSION:2.0
PRODID:-//Segelclub Wendelsee Thun//NONSGML kigkonsult.se iCalcreator 2.16.
 12//
METHOD:PUBLISH
X-MS-OLK-FORCEINSPECTOROPEN:TRUE
BEGIN:VEVENT
UID:20260419T201258CEST-6896Rz9Dmc@Segelclub Wendelsee Thun
DTSTAMP:20260419T181258Z
DESCRIPTION:\nDie GV vom 20.03.2020 wird verschoben. Ein neues Datum ist zu
 r Zeit noch offen.\n\nDer Vorstand/ 13.03.2020
DTSTART:20200320T200000
DTEND:20200320T220000
LOCATION:Rössli Dürrenast
ORGANIZER:MAILTO:Segelclub Wendelsee Thun <info@scwe.ch>
SUMMARY:GV 2020 verschoben
END:VEVENT
END:VCALENDAR
