BEGIN:VCALENDAR
VERSION:2.0
PRODID:-//Segelclub Wendelsee Thun//NONSGML kigkonsult.se iCalcreator 2.16.
 12//
METHOD:PUBLISH
X-MS-OLK-FORCEINSPECTOROPEN:TRUE
BEGIN:VEVENT
UID:20260419T201115CEST-09297VLbnu@Segelclub Wendelsee Thun
DTSTAMP:20260419T181115Z
DESCRIPTION:Wer Lust und Zeit hat soll doch kommen. \nEs braucht keine Anme
 ldung.\nEs wird jeweils ein Tisch reserviert.\n\nDer Vorstand
DTSTART:20200313T110000
DTEND:20200313T120000
LOCATION:Hotel Holiday
ORGANIZER:MAILTO:Segelclub Wendelsee Thun <info@scwe.ch>
SUMMARY:Apéro zwischendurch
END:VEVENT
END:VCALENDAR
