BEGIN:VCALENDAR
VERSION:2.0
PRODID:-//Segelclub Wendelsee Thun//NONSGML kigkonsult.se iCalcreator 2.16.
 12//
METHOD:PUBLISH
X-MS-OLK-FORCEINSPECTOROPEN:TRUE
BEGIN:VEVENT
UID:20260419T200930CEST-5838V5Sv9d@Segelclub Wendelsee Thun
DTSTAMP:20260419T180930Z
DESCRIPTION:Wer Lust und Zeit hat soll doch kommen. \nEs braucht keine Anme
 ldung.\nEs wird jeweils ein Tisch reserviert.\n\nDer Vorstand\n
DTSTART:20200214T110000
DTEND:20200214T120000
LOCATION:Hotel Holiday
ORGANIZER:MAILTO:Segelclub Wendelsee Thun <info@scwe.ch>
SUMMARY:Apéro zwischendurch
END:VEVENT
END:VCALENDAR
