BEGIN:VCALENDAR
VERSION:2.0
PRODID:-//Segelclub Wendelsee Thun//NONSGML kigkonsult.se iCalcreator 2.16.
 12//
METHOD:PUBLISH
X-MS-OLK-FORCEINSPECTOROPEN:TRUE
BEGIN:VEVENT
UID:20260419T201350CEST-2497T9n8rb@Segelclub Wendelsee Thun
DTSTAMP:20260419T181350Z
DESCRIPTION:\n\nGemütlicher Fondueabend im SCWe-Clublokal\n\n- Einladung si
 ehe Beilage\n- Clubwirte und Köche: Gasser's\n- Apéro gespendet von Ueli S
 trycker\n- Anmeldung gerne bis Mi\, 05.02.2020\n\nDer Vorstand
DTSTART:20200207T190000
DTEND:20200207T230000
LOCATION:SCWe-Lokal
ORGANIZER:MAILTO:Segelclub Wendelsee Thun <info@scwe.ch>
SUMMARY:Februarhöck 2020
END:VEVENT
END:VCALENDAR
